BEGIN:VCALENDAR
VERSION:2.0
PRODID:-//Medicine Hat Brewing Company - ECPv6.14.2//NONSGML v1.0//EN
CALSCALE:GREGORIAN
METHOD:PUBLISH
X-ORIGINAL-URL:https://medicinehatbrewingcompany.ca
X-WR-CALDESC:Events for Medicine Hat Brewing Company
REFRESH-INTERVAL;VALUE=DURATION:PT1H
X-Robots-Tag:noindex
X-PUBLISHED-TTL:PT1H
BEGIN:VTIMEZONE
TZID:America/Vancouver
BEGIN:DAYLIGHT
TZOFFSETFROM:-0800
TZOFFSETTO:-0700
TZNAME:PDT
DTSTART:20220313T100000
END:DAYLIGHT
BEGIN:STANDARD
TZOFFSETFROM:-0700
TZOFFSETTO:-0800
TZNAME:PST
DTSTART:20221106T090000
END:STANDARD
END:VTIMEZONE
BEGIN:VEVENT
DTSTART;TZID=America/Vancouver:20220811T110000
DTEND;TZID=America/Vancouver:20220811T210000
DTSTAMP:20260419T083852
CREATED:20210915T163913Z
LAST-MODIFIED:20220609T152716Z
UID:3465-1660215600-1660251600@medicinehatbrewingcompany.ca
SUMMARY:Growler Fill Thursday
DESCRIPTION:Craft beer on a budget? You got it! Stop by every Thursday at Medicine Hat Brewing Co.\, bring in any 64oz growler\, and we will fill it for $11. Bring on the weekend! \n*Excludes some Small Batches & Specialty Beer
URL:https://medicinehatbrewingcompany.ca/event/growler-fill-thursday-6-2022-08-11/
LOCATION:Alberta
END:VEVENT
BEGIN:VEVENT
DTSTART;TZID=America/Vancouver:20220811T180000
DTEND;TZID=America/Vancouver:20220811T200000
DTSTAMP:20260419T083852
CREATED:20220809T182152Z
LAST-MODIFIED:20220811T163638Z
UID:3727-1660240800-1660248000@medicinehatbrewingcompany.ca
SUMMARY:CANCELLED: Live Music with Prairie Joggers
DESCRIPTION:Join us in the Taproom at Medicine Hat Brewing Company from 6-8pm on Thursday\, August 11th for live music with the Prairie Joggers!\n\nNo cover | 18+
URL:https://medicinehatbrewingcompany.ca/event/live-music-with-prairie-joggers/
LOCATION:Alberta
ATTACH;FMTTYPE=image/jpeg:https://medicinehatbrewingcompany.ca/wp-content/uploads/2022/08/PJ_small-2.jpg
END:VEVENT
END:VCALENDAR