BEGIN:VCALENDAR
VERSION:2.0
PRODID:-//Medicine Hat Brewing Company - ECPv6.14.2//NONSGML v1.0//EN
CALSCALE:GREGORIAN
METHOD:PUBLISH
X-ORIGINAL-URL:https://medicinehatbrewingcompany.ca
X-WR-CALDESC:Events for Medicine Hat Brewing Company
REFRESH-INTERVAL;VALUE=DURATION:PT1H
X-Robots-Tag:noindex
X-PUBLISHED-TTL:PT1H
BEGIN:VTIMEZONE
TZID:America/Edmonton
BEGIN:DAYLIGHT
TZOFFSETFROM:-0700
TZOFFSETTO:-0600
TZNAME:MDT
DTSTART:20240310T090000
END:DAYLIGHT
BEGIN:STANDARD
TZOFFSETFROM:-0600
TZOFFSETTO:-0700
TZNAME:MST
DTSTART:20241103T080000
END:STANDARD
END:VTIMEZONE
BEGIN:VEVENT
DTSTART;TZID=America/Edmonton:20240718T170000
DTEND;TZID=America/Edmonton:20240720T150000
DTSTAMP:20260420T045655
CREATED:20240708T205715Z
LAST-MODIFIED:20240708T205715Z
UID:4319-1721322000-1721487600@medicinehatbrewingcompany.ca
SUMMARY:Country Music Weekend Fest
DESCRIPTION:🎶 Join us July 18-20th in the Medicine Hat Brewing Company Taproom for our Country Music Weekend! 🌾 Enjoy many live artists all with their own flare! \n🎤 Stop by Thursday the 18th to see The Goddamsels & Derek Hintz from 5-8\, join us Friday the 19th from 5:30 – 8:30 to enjoy a pint of our Strawberry Creamsicle cask & see Black Suit Devil jam out\, or pop in on Saturday the 20th to take in the sound of Bobby Dove playing from 1-3! 🎵 \n🍽️ To kick off this music-filled weekend we’re serving up some delicious specials: chicken fried steak on mashed potatoes with white gravy and green veggies\, or jalapeño cornbread with BBQ pork ribs and beer-braised beans. These tasty dishes will be available all weekend long! 😋🍺
URL:https://medicinehatbrewingcompany.ca/event/country-music-weekend-fest/
LOCATION:Alberta
ATTACH;FMTTYPE=image/png:https://medicinehatbrewingcompany.ca/wp-content/uploads/2024/07/Artboard-1.png
END:VEVENT
END:VCALENDAR